BEGIN:VCALENDAR
VERSION:2.0
PRODID:-//Kam na Orave - ECPv6.7.0//NONSGML v1.0//EN
CALSCALE:GREGORIAN
METHOD:PUBLISH
X-ORIGINAL-URL:https://www.kamnaorave.sk
X-WR-CALDESC:Events for Kam na Orave
REFRESH-INTERVAL;VALUE=DURATION:PT1H
X-Robots-Tag:noindex
X-PUBLISHED-TTL:PT1H
BEGIN:VTIMEZONE
TZID:Europe/Bratislava
BEGIN:DAYLIGHT
TZOFFSETFROM:+0100
TZOFFSETTO:+0200
TZNAME:CEST
DTSTART:20250330T010000
END:DAYLIGHT
BEGIN:STANDARD
TZOFFSETFROM:+0200
TZOFFSETTO:+0100
TZNAME:CET
DTSTART:20251026T010000
END:STANDARD
END:VTIMEZONE
BEGIN:VEVENT
DTSTART;TZID=Europe/Bratislava:20250209T150000
DTEND;TZID=Europe/Bratislava:20250209T160000
DTSTAMP:20260425T180657
CREATED:20250207T192506Z
LAST-MODIFIED:20250207T192506Z
UID:10000024-1739113200-1739116800@www.kamnaorave.sk
SUMMARY:Kamenný chodníček
DESCRIPTION:Obec Jasenová srdečne pozýva všetkých priaznivcov divadla na predstavenie Divadelnej spoločnosti VENDO zo Štefanova nad Oravou podľa predlohy Ferka Urbánka – Kamenný chodníček \nVstupné je 4€ pri vstupe. \n  \nVšetci ste srdečne vítaní
URL:https://www.kamnaorave.sk/event/kamenny-chodnicek/
CATEGORIES:Divadelné,Kategória,Ostatné
ATTACH;FMTTYPE=image/jpeg:https://www.kamnaorave.sk/wp-content/uploads/2025/02/i_7934132.jpg
END:VEVENT
BEGIN:VEVENT
DTSTART;TZID=Europe/Bratislava:20250218T180000
DTEND;TZID=Europe/Bratislava:20250218T200000
DTSTAMP:20260425T180657
CREATED:20250209T191425Z
LAST-MODIFIED:20250209T191425Z
UID:10000035-1739901600-1739908800@www.kamnaorave.sk
SUMMARY:Pocta Jozefovi Kronerovi - KUBO
DESCRIPTION:Anča \, ja mám nožík ! \nMuzikál Kubo je späť ! Prevalcoval aj Pražskú Hyberniu ! Agentúra Mystik prináša najúspešnejší muzikál opäť na scénu ! Réžia Ivan Blahút\, hudba Sima Magušinová \, folkór fashion show Adriana Adamíková\, bravúrne herecké a tanečné výkony…… \nSkvelý Peter Brajerčík v postave Kuba . \nĎalej účinkujú :  Adela Mojžišová \, Silvia Soldan\, Sára Polyaková\, Martin Macko\, Simon Kopunec\, Rado Hudec \, Štefan Richtárech\, Elena Spaskov\, Renata Ryníková\, Tomáš Palonder\, Norman Šáro… \nTour 2025 aj v Hruštíne !
URL:https://www.kamnaorave.sk/event/pocta-jozefovi-kronerovi-kubo/
CATEGORIES:Divadelné,Kategória,Koncerty,Ostatné
ATTACH;FMTTYPE=image/jpeg:https://www.kamnaorave.sk/wp-content/uploads/2025/02/5YAn6DgFkQHGl7UlqNulMjUIoeHEipxlN5RmJPSJ.jpg
END:VEVENT
BEGIN:VEVENT
DTSTART;TZID=Europe/Bratislava:20250223T180000
DTEND;TZID=Europe/Bratislava:20250223T190000
DTSTAMP:20260425T180657
CREATED:20250207T142106Z
LAST-MODIFIED:20250207T142106Z
UID:10000021-1740333600-1740337200@www.kamnaorave.sk
SUMMARY:SALEZIÁNI DON BOSCA - “ČASY SÚ ZLÉÉÉÉ”
DESCRIPTION:23. 2. 2025 nedeľa 18:00 – repríza \nvstupné dobrovoľné \nZ príležitosti oslavy sviatku Dona Bosca vás mladí herci a saleziáni v Námestove srdečne pozývajú na divadlo Maroša Bránického “Časy sú zléééé” na motívy Vianočnej koledy.
URL:https://www.kamnaorave.sk/event/saleziani-don-bosca-casy-su-zleeee/
CATEGORIES:Divadelné,Kategória
ATTACH;FMTTYPE=image/jpeg:https://www.kamnaorave.sk/wp-content/uploads/2025/02/c435a104-de4c-11ef-9bbd-9e966f951e90.jpg
ORGANIZER;CN="Dom kult%C3%BAry v N%C3%A1mestove":MAILTO:office@dkno.sk
END:VEVENT
BEGIN:VEVENT
DTSTART;TZID=Europe/Bratislava:20250417T170000
DTEND;TZID=Europe/Bratislava:20250417T180000
DTSTAMP:20260425T180657
CREATED:20250208T155318Z
LAST-MODIFIED:20250208T155318Z
UID:10000033-1744909200-1744912800@www.kamnaorave.sk
SUMMARY:Smejko a Tanculienka- Cesta do fantázie!
DESCRIPTION:Ahojte\, chrobáčikovia! \nNaša Cesta do fantázie bude teda riadne dobrodružstvo. So Smejkom a Tanculienkou si zaspievate vaše obľúbené hity aj nové piesne z pripravovaného filmu Cesta do fantázie. Čaká nás nádherný deň\, ktorý hneď na začiatku oslávime pesničkou Krásny deň. Pred dlhou cestou sa zahrejeme našou najväčšou pochodovou peckou: Šlapy šlapy. A pretože to bude cesta fantastická\, spoločne si zadupeme so slonom\, hrochom a nosorožcom v pesničke Dupi dup! A to si buďte istí\, že nezabudneme ani na Keď si šťastný. Tanculienka sa ukáže úplne Strapatá\, ale veľmi rýchlo vysvetlí prečo. Cesta do fantázie nie je cesta naslepo\, to nám pripomenie Slepá baba. Takisto konečne spoznáme a vyspovedáme najväčšieho sebca pod slnkom\, ktorý sa volá Mamoň lakomý. V jednej chvíli sa ale budeme musieť rozhodnúť: doprava alebo doľava? Rozhodnú iba Kameň\, papier\, nožnice. Samozrejme\, že sa objaví aj vlk\, ktorý si tentoraz bude len užívať a nepriloží ruku k dielu v pesničke Vlk a zima. Žiaľ natrafíme aj na krutú realitu v prírode: odpadky a plasty. Ale vyrovnáme sa s tým\, ako sa na správnych turistov patrí\, s pesničkou Bez plastu. Takže\, ak po tom všetkom váhaš\, či s nami ísť alebo nie\, máme pre teba iba jednu odpoveď: Poď von! Cestou necestou budeme rozdávať dobrú náladu pesničkou Mávame. A to nie je všetko! Možno stretneme v krajine Fantázia aj obrovského Macka Duška\, 2 metrového maskota\, ktorý vie nielen spievať a tancovať\, ale aj mnohé iné. Si zvedavý\, či vôbec do tej Fantázie dorazíme? Príď sa presvedčiť na naše predstavenie! Bude to naozaj dobrodružná a zábavná cesta\, po ktorej sa všetci budeme tešiť\, až budeme konečne Doma. Nakoniec sa rozlúčime pesničkou Pápá. Ale nie navždy. Iba na chvíľu. Budeme sa na vás tešiť na našom novom rodinnom hudobnom predstavení Cesta do fantázie! \nTešíme sa na vás! \nVaši Smejko a Tanculienka \nPredstavenie trvá približne 60 minút a je vhodné pre všetkých od 2 rokov. \nKaždá osoba\, dospelý aj dieťa bez ohľadu na vek musí mať platnú vstupenku.\nDo sály z bezpečnostných a kapacitných dôvodov púšťame len toľko osôb\, koľko je v sále miest na sedenie. Záleží nám na bezpečnosti a pohodlí našich chrobáčikov. \nAko bonus ku každým 4 lístkom zakúpeným v jednom nákupe dostanete darček: \n1.  Mesačný prístup ku všetkým našim filmom a rozprávkam na www.kukino.tv\nDarček získate pred vstupom do sály. \nDieťa s platným ZŤP preukazom do 15 rokov bude mať po zakúpení vstupenky a predložení ZŤP preukazu na vstupe pred akciou nárok na vrátenie 50 % zo vstupného. \nZľavy a vstupenky pre deti: Bez zľavy – každý účastník podujatia musí mať zakúpenú platnú vstupenku bez ohľadu na vek. Cena vstupeniek je rovnaká pre deti aj dospelých. \nVstupenky odporúčame zakúpiť online. \nUpozorňujeme\, že počet vstupeniek v predaji je limitovaný – na mieste už nemusia byť dostupné žiadne voľné vstupenky.
URL:https://www.kamnaorave.sk/event/smejko-a-tanculienka-cesta-do-fantazie/
CATEGORIES:Divadelné,Kategória,Kultúrne,Ostatné
ATTACH;FMTTYPE=image/jpeg:https://www.kamnaorave.sk/wp-content/uploads/2025/02/i_7945710.jpg
ORGANIZER;CN="Mestsk%C3%A9 kult%C3%BArne stredisko Doln%C3%BD Kub%C3%ADn":MAILTO:prevadzkove@msksdk.sk
END:VEVENT
BEGIN:VEVENT
DTSTART;TZID=Europe/Bratislava:20250628T193000
DTEND;TZID=Europe/Bratislava:20250628T203000
DTSTAMP:20260425T180657
CREATED:20250619T182535Z
LAST-MODIFIED:20250619T182535Z
UID:10000095-1751139000-1751142600@www.kamnaorave.sk
SUMMARY:Plátennícky chlieb
DESCRIPTION:
URL:https://www.kamnaorave.sk/event/platennicky-chlieb/
CATEGORIES:Divadelné,Kategória,Kultúrne,Umelecké
ATTACH;FMTTYPE=image/jpeg:https://www.kamnaorave.sk/wp-content/uploads/2025/06/508952370_24761369103450565_7593918169014823963_n.jpg
END:VEVENT
BEGIN:VEVENT
DTSTART;TZID=Europe/Bratislava:20250711T170000
DTEND;TZID=Europe/Bratislava:20250711T190000
DTSTAMP:20260425T180657
CREATED:20250706T135346Z
LAST-MODIFIED:20250706T135346Z
UID:10000101-1752253200-1752260400@www.kamnaorave.sk
SUMMARY:Kultúrne leto: Divadlo – Sýkorka Dodo
DESCRIPTION:Kultúrne leto v meste Dolný Kubín pokračuje ďalším krásnym podujatím pre najmenších! Tentokrát vás pozývame na bábkové divadelné predstavenie Sýkorka Dodo\, ktoré vzniklo na motívy knihy Veroniky Šikulovej Pozor\, bodkovaný pes! \nO predstavení: \nSýkorka Dodo je malý vtáčik zo strednej Európy\, ktorý veľmi túži po obdivovaní. No je to naozaj tá najdôležitejšia hodnota v živote? Na svojej ceste až do ďalekej Afriky zisťuje\, čo je skutočne dôležité. \nDivadlo Fí: \nÚčinkujú: Lucia Janovová\, Róbert Máťuš \nRéžia: Lucia Janovová\, Róbert Máťuš \nScénografia a výroba bábok: Róbert Máťuš \nPredstavenie prináša hravý a zároveň hlboký príbeh s dôležitým posolstvom\, ktorý deti nielen pobaví\, ale aj podnieti k zamysleniu. \nTešíme sa na vás a vašich najmenších! \nV prípade nepriaznivého počasia sa podujatie uskutoční v priestoroch MsKS Dolný Kubín. \n  \nRealizované s finančnou podporou Ministerstva cestovného ruchu a športu Slovenskej republiky. \nPartneri a sponzori podujatia: Mesto Dolný Kubín\, Klaster ORAVA a Mestské kultúrne stredisko Dolný Kubín
URL:https://www.kamnaorave.sk/event/kulturne-leto-divadlo-sykorka-dodo/
CATEGORIES:Divadelné,Kategória,Kultúrne,Ostatné
ATTACH;FMTTYPE=image/jpeg:https://www.kamnaorave.sk/wp-content/uploads/2025/07/i_8194842.jpg
END:VEVENT
BEGIN:VEVENT
DTSTART;TZID=Europe/Bratislava:20250718T170000
DTEND;TZID=Europe/Bratislava:20250718T190000
DTSTAMP:20260425T180657
CREATED:20250706T135908Z
LAST-MODIFIED:20250706T135908Z
UID:10000103-1752858000-1752865200@www.kamnaorave.sk
SUMMARY:Kultúrne leto: Divadlo – Don Šajn alebo Márnotratný syn
DESCRIPTION:O predstavení:\nTradičná bábková hra „Don Šajn alebo Márnotratný syn“ vychádza z klasického španielskeho príbehu o Donovi Juanovi\, známom zvodcovi žien. Na Slovensku bola súčasťou kmeňového repertoáru ľudových bábkarov. Príbeh plný napätia\, humoru a ponaučenia hovorí o márnotratnom Donovi Šajnovi\, ktorý premrhá celý majetok\, dopustí sa viacerých zločinov a nakoniec ho čaká zaslúžený trest – cesta do pekla. \nNechýba postava vtipného Gašparka\, ktorý svojimi komentármi glosuje celý dej. \nPredstavenie je venované pamiatke všetkých slovenských ľudových bábkarov. \nÚčinkujú:\nBábky oživujú: Ivan Gontko a Ivana alebo Rebeka Gontková\nRéžia a text piesne: Juraj Hamar\nVýprava: Miro Duša\nKulisy: Ďuro Balogh\nBábky: Beata Westrych-Zazrivec\, Jaro Štuller\nPodľa hry ľudových bábkarov zapísal: Juraj Hamar\nUpravil: Ivan Gontko \n  \nTešíme sa na vás a vašich najmenších! \nV prípade nepriaznivého počasia sa podujatie uskutoční v priestoroch MsKS Dolný Kubín. \nRealizované s finančnou podporou Ministerstva cestovného ruchu a športu Slovenskej republiky. \nPartneri a sponzori podujatia: Mesto Dolný Kubín\, Klaster ORAVA a Mestské kultúrne stredisko Dolný Kubín
URL:https://www.kamnaorave.sk/event/kulturne-leto-divadlo-don-sajn-alebo-marnotratny-syn/
CATEGORIES:Divadelné,Kategória,Kultúrne,Ostatné
ATTACH;FMTTYPE=image/jpeg:https://www.kamnaorave.sk/wp-content/uploads/2025/07/i_8194960.jpg
END:VEVENT
BEGIN:VEVENT
DTSTART;TZID=Europe/Bratislava:20250725T170000
DTEND;TZID=Europe/Bratislava:20250725T190000
DTSTAMP:20260425T180657
CREATED:20250706T140058Z
LAST-MODIFIED:20250706T140058Z
UID:10000104-1753462800-1753470000@www.kamnaorave.sk
SUMMARY:Kultúrne leto: Divadlo – Zvedavka a kúzelník
DESCRIPTION:Interaktívne divadelné predstavenie pre deti. \nPríďte sa spolu s nami ponoriť do sveta kúziel\, fantázie a detskej zvedavosti!\nRozprávkový príbeh o malej Zvedavke a tajomnom kúzelníkovi je plný prekvapení\, smiechu a nečakaných kúziel\, ktoré vtiahnu deti priamo do deja. \nZvedavka a kúzelník sú pripravení vás rozosmiať\, zaujať a inšpirovať – príďte a zažite rozprávkové popoludnie plné fantázie! \nTešíme sa na vás a vašich najmenších! \n  \nV prípade nepriaznivého počasia sa podujatie uskutoční v priestoroch MsKS Dolný Kubín. \nRealizované s finančnou podporou Ministerstva cestovného ruchu a športu Slovenskej republiky. \nPartneri a sponzori podujatia: Mesto Dolný Kubín\, Klaster ORAVA a Mestské kultúrne stredisko Dolný Kubín
URL:https://www.kamnaorave.sk/event/kulturne-leto-divadlo-zvedavka-a-kuzelnik/
CATEGORIES:Divadelné,Kategória,Kultúrne,Ostatné
ATTACH;FMTTYPE=image/jpeg:https://www.kamnaorave.sk/wp-content/uploads/2025/07/i_8194979.jpg
END:VEVENT
BEGIN:VEVENT
DTSTART;TZID=Europe/Bratislava:20250801T170000
DTEND;TZID=Europe/Bratislava:20250801T190000
DTSTAMP:20260425T180657
CREATED:20250706T140358Z
LAST-MODIFIED:20250706T140358Z
UID:10000105-1754067600-1754074800@www.kamnaorave.sk
SUMMARY:Kultúrne leto: Divadlo – O múdrej princeznej
DESCRIPTION:Divadelné predstavenie pre deti. \nPovedať úprimné želanie od srdca môže mať takú silu\, že ho vypočujú aj tam\, kde inak sila nezasahuje. Obyčajný junák Ondrej hľadá šťastie vo svete\, no keď stretne to najkrajšie stvorenie pod slnkom\, jeho život sa obráti naruby. V tejto rozprávke nechýba ani súboj lásky a zla. A čo nakoniec zvíťazí? Nuž predsa… \nTešíme sa na vás a vašich najmenších! \nV prípade nepriaznivého počasia sa podujatie uskutoční v priestoroch MsKS Dolný Kubín. \nRealizované s finančnou podporou Ministerstva cestovného ruchu a športu Slovenskej republiky. \nPartneri a sponzori podujatia: Mesto Dolný Kubín\, Klaster ORAVA a Mestské kultúrne stredisko Dolný Kubín
URL:https://www.kamnaorave.sk/event/kulturne-leto-divadlo-o-mudrej-princeznej/
CATEGORIES:Divadelné,Kategória,Kultúrne,Ostatné
ATTACH;FMTTYPE=image/jpeg:https://www.kamnaorave.sk/wp-content/uploads/2025/07/i_8196585.jpg
END:VEVENT
BEGIN:VEVENT
DTSTART;TZID=Europe/Bratislava:20250808T170000
DTEND;TZID=Europe/Bratislava:20250808T190000
DTSTAMP:20260425T180657
CREATED:20250706T140636Z
LAST-MODIFIED:20250706T140636Z
UID:10000106-1754672400-1754679600@www.kamnaorave.sk
SUMMARY:Kultúrne leto: Divadlo – Trojruža
DESCRIPTION:Divadelné predstavenie pre deti. \nKlasická rozprávka od Pavla Dobšínského v neobyčajnom prevedení nevaDIvadla. Príbeh v ktorom skromnosťou prídete k najväčšiemu bohatstvu\, láskou premeníte zviera na princa a vďaka trpezlivosti sa všetko zlé na dobré obráti. \nScenár: kolektív \n​Réžia a hrajú: Róbert Máťuš\, Lukáš Jurko \nScénografia: Júlia Jurinová \n  \nTešíme sa na vás a vašich najmenších! \nV prípade nepriaznivého počasia sa podujatie uskutoční v priestoroch MsKS Dolný Kubín. \nRealizované s finančnou podporou Ministerstva cestovného ruchu a športu Slovenskej republiky. \nPartneri a sponzori podujatia: Mesto Dolný Kubín\, Klaster ORAVA a Mestské kultúrne stredisko Dolný Kubín
URL:https://www.kamnaorave.sk/event/kulturne-leto-divadlo-trojruza/
CATEGORIES:Divadelné,Kategória,Kultúrne,Ostatné,Športové
ATTACH;FMTTYPE=image/jpeg:https://www.kamnaorave.sk/wp-content/uploads/2025/07/i_8197531.jpg
END:VEVENT
BEGIN:VEVENT
DTSTART;TZID=Europe/Bratislava:20250815T170000
DTEND;TZID=Europe/Bratislava:20250815T193000
DTSTAMP:20260425T180657
CREATED:20250706T141324Z
LAST-MODIFIED:20250706T141324Z
UID:10000108-1755277200-1755286200@www.kamnaorave.sk
SUMMARY:Kultúrne leto: Divadlo – Sranda banda
DESCRIPTION:Divadelné predstavenie pre deti. \nZábavné predstavenie pre celú rodinu! \nPripravte sa na poriadnu dávku smiechu\, kúziel a gagov!\nSrdečne vás pozývame na jedinečnú Family show – Sranda Banda\, ktorá sa uskutoční v piatok 15. augusta 2025 o 17:00 hod. na Hviezdoslavovom námestí v Dolnom Kubíne. \nVeselá skupina zvieracích postavičiek vás ohúri originálnymi gagmi\, komickými situáciami a výbornou bruchovraveckou technikou. Sranda Banda je energické neinfantilné divadlo\, v ktorom sa miešajú krásne bábky a trefný multivrstvový humor – zábava pre malých aj veľkých zaručená! \nUnikátna show\, ktorú inde na Slovensku ani v Česku neuvidíte. \n  \nTešíme sa na vás a vašich najmenších! \nV prípade nepriaznivého počasia sa podujatie uskutoční v priestoroch MsKS Dolný Kubín. \nRealizované s finančnou podporou Ministerstva cestovného ruchu a športu Slovenskej republiky. \nPartneri a sponzori podujatia: Mesto Dolný Kubín\, Klaster ORAVA a Mestské kultúrne stredisko Dolný Kubín
URL:https://www.kamnaorave.sk/event/kulturne-leto-divadlo-sranda-banda/
CATEGORIES:Divadelné,Kategória,Kultúrne,Ostatné
ATTACH;FMTTYPE=image/jpeg:https://www.kamnaorave.sk/wp-content/uploads/2025/07/i_8197572.jpg
END:VEVENT
BEGIN:VEVENT
DTSTART;TZID=Europe/Bratislava:20250822T170000
DTEND;TZID=Europe/Bratislava:20250822T193000
DTSTAMP:20260425T180657
CREATED:20250706T141522Z
LAST-MODIFIED:20250706T141522Z
UID:10000109-1755882000-1755891000@www.kamnaorave.sk
SUMMARY:Kultúrne leto: Divadlo – Sofia z predmestia
DESCRIPTION:Nadčasová rozprávka zo súčasného sveta pre deti aj dospelých. \nPríbeh múdreho dievčatka Sofie zo sídliska prináša zábavné\, no zároveň silné posolstvo o láskavosti\, ohľaduplnosti a sile svedomia. Sofia pomocou čarovného ovládača odhalí rôzne chyby dospelých\, ktorí sa v honbe za víťazstvami či vecami zabudli tešiť zo života. Vtipne a citlivo ich privádza k zamysleniu – a k zmene. \nInscenácia je obohatená o piesne a venuje sa aj témam\, ako detská osamelosť\, potreba lásky a medzigeneračné vzťahy. Je určená deťom aj rodičom – a možno najmä rodičom. \nMinimalistická\, ale nápaditá scénografia s bábkarským stolíkom\, točňou a okienkami prináša vizuálne aj dramaturgicky hodnotný zážitok. \n  \nTešíme sa na vás a vašich najmenších! \nV prípade nepriaznivého počasia sa podujatie uskutoční v priestoroch MsKS Dolný Kubín. \nRealizované s finančnou podporou Ministerstva cestovného ruchu a športu Slovenskej republiky. \nPartneri a sponzori podujatia: Mesto Dolný Kubín\, Klaster ORAVA a Mestské kultúrne stredisko Dolný Kubín
URL:https://www.kamnaorave.sk/event/kulturne-leto-divadlo-sofia-z-predmestia/
CATEGORIES:Divadelné,Kategória,Kultúrne,Ostatné
ATTACH;FMTTYPE=image/jpeg:https://www.kamnaorave.sk/wp-content/uploads/2025/07/i_8197582.jpg
END:VEVENT
END:VCALENDAR