BEGIN:VCALENDAR
VERSION:2.0
PRODID:-//Kam na Orave - ECPv6.7.0//NONSGML v1.0//EN
CALSCALE:GREGORIAN
METHOD:PUBLISH
X-ORIGINAL-URL:https://www.kamnaorave.sk
X-WR-CALDESC:Events for Kam na Orave
REFRESH-INTERVAL;VALUE=DURATION:PT1H
X-Robots-Tag:noindex
X-PUBLISHED-TTL:PT1H
BEGIN:VTIMEZONE
TZID:Europe/Bratislava
BEGIN:DAYLIGHT
TZOFFSETFROM:+0100
TZOFFSETTO:+0200
TZNAME:CEST
DTSTART:20250330T010000
END:DAYLIGHT
BEGIN:STANDARD
TZOFFSETFROM:+0200
TZOFFSETTO:+0100
TZNAME:CET
DTSTART:20251026T010000
END:STANDARD
END:VTIMEZONE
BEGIN:VEVENT
DTSTART;TZID=Europe/Bratislava:20250614T090000
DTEND;TZID=Europe/Bratislava:20250907T200000
DTSTAMP:20260426T061855
CREATED:20250706T142006Z
LAST-MODIFIED:20250706T142006Z
UID:10000111-1749891600-1757275200@www.kamnaorave.sk
SUMMARY:Leto v Trstenej
DESCRIPTION:
URL:https://www.kamnaorave.sk/event/leto-v-trstenej/
CATEGORIES:Kategória,Koncerty,Kultúrne,Ostatné
ATTACH;FMTTYPE=image/jpeg:https://www.kamnaorave.sk/wp-content/uploads/2025/07/i_8196990-1.jpg
END:VEVENT
BEGIN:VEVENT
DTSTART;TZID=Europe/Bratislava:20250904T180000
DTEND;TZID=Europe/Bratislava:20250904T220000
DTSTAMP:20260426T061855
CREATED:20250814T131351Z
LAST-MODIFIED:20250814T132231Z
UID:10000115-1757008800-1757023200@www.kamnaorave.sk
SUMMARY:La Gioia Kaštieľ Kubínyi\, Vyšný Kubín
DESCRIPTION:Zaži magický koncert La Gioia v Kaštieli Kubínyi vo Vyšnom Kubíne! Vstupenky na 4. septembra 2025 sú už v predaji. Letné turné La Gioga plné pop-operových hitov v krásnom historickom prostredí. \nKupiť Vstupemku tu: \n 
URL:https://www.kamnaorave.sk/event/la-gioia-kastiel-kubinyi-vysny-kubin/
CATEGORIES:Kategória,Koncerty,Kultúrne,Ostatné,Umelecké
ATTACH;FMTTYPE=image/jpeg:https://www.kamnaorave.sk/wp-content/uploads/2025/08/513976506_1293783472103830_1267419325824695026_n-1.jpg
END:VEVENT
BEGIN:VEVENT
DTSTART;TZID=Europe/Bratislava:20250924T140000
DTEND;TZID=Europe/Bratislava:20250924T190000
DTSTAMP:20260426T061855
CREATED:20250914T134620Z
LAST-MODIFIED:20250914T134620Z
UID:10000121-1758722400-1758740400@www.kamnaorave.sk
SUMMARY:Michalský jarmok
DESCRIPTION:Srdečne vás pozývame v piatok 26. septembra na Michalský jarmok na Michalskom námestí v Tvrdošíne.
URL:https://www.kamnaorave.sk/event/michalsky-jarmok/
CATEGORIES:Kategória,Koncerty,Kultúrne,Ostatné
ATTACH;FMTTYPE=image/jpeg:https://www.kamnaorave.sk/wp-content/uploads/2025/09/michalsky-jarmok-2025.jpg
END:VEVENT
BEGIN:VEVENT
DTSTART;TZID=Europe/Bratislava:20250927T100000
DTEND;TZID=Europe/Bratislava:20250928T210000
DTSTAMP:20260426T061855
CREATED:20250923T162438Z
LAST-MODIFIED:20251006T125714Z
UID:10000122-1758967200-1759093200@www.kamnaorave.sk
SUMMARY:150. výročie založenia dobrovoľného hasičského zboru v Tvrdošíne
DESCRIPTION:Mesto Tvrdošín a DHZ Tvrdošín vás pozývajú v sobotu 27. septembra a v nedeľu 28. septembra 2025 na Trojičné námestie na oslavy 150. výročia založenia dobrovoľného hasičského zboru v Tvrdošíne. \n\n\n\n\nProgram sobota: \nTvrdošín pod Velingom  \n10:00 Začiatok súťaže \nSprievodný program: hudba – občerstvenie – súťaže \n  \nTrojičné námestie \n18:00 Sám Sebou   \n19:30 GOLF \n  \nProgram nedeľa: \nTrojičné námestie \n10:30 Sprievod vozidiel mestom od Kauflandu na Trojičné námestie \n11:00 Slávnostná svätá omša v kostole Najsvätejšej Trojice \n12:15 Ceremoniál na Trojičnom námestí \n14:00 Slančíkovci \n15:30 Sima Magušinová s kapelou \n17:00 Ľudovít Kašuba a Martina Kreibich \n  \nSprievodný program: \nOd 13:30 sprievodný program pre deti v mestskom parku
URL:https://www.kamnaorave.sk/event/150-vyrocie-zalozenia-dobrovolneho-hasicskeho-zboru-v-tvrdosine/
CATEGORIES:Kategória,Koncerty,Kultúrne,Ostatné,Športové
ATTACH;FMTTYPE=image/jpeg:https://www.kamnaorave.sk/wp-content/uploads/2025/09/hasici-vyrocie_1.jpg
END:VEVENT
END:VCALENDAR