BEGIN:VCALENDAR
VERSION:2.0
PRODID:-//Kam na Orave - ECPv6.7.0//NONSGML v1.0//EN
CALSCALE:GREGORIAN
METHOD:PUBLISH
X-WR-CALNAME:Kam na Orave
X-ORIGINAL-URL:https://www.kamnaorave.sk
X-WR-CALDESC:Events for Kam na Orave
REFRESH-INTERVAL;VALUE=DURATION:PT1H
X-Robots-Tag:noindex
X-PUBLISHED-TTL:PT1H
BEGIN:VTIMEZONE
TZID:Europe/Bratislava
BEGIN:DAYLIGHT
TZOFFSETFROM:+0100
TZOFFSETTO:+0200
TZNAME:CEST
DTSTART:20250330T010000
END:DAYLIGHT
BEGIN:STANDARD
TZOFFSETFROM:+0200
TZOFFSETTO:+0100
TZNAME:CET
DTSTART:20251026T010000
END:STANDARD
END:VTIMEZONE
BEGIN:VEVENT
DTSTART;TZID=Europe/Bratislava:20250607T140000
DTEND;TZID=Europe/Bratislava:20250928T200000
DTSTAMP:20260426T024219
CREATED:20250614T182733Z
LAST-MODIFIED:20250614T182733Z
UID:10000069-1749304800-1759089600@www.kamnaorave.sk
SUMMARY:Leto v Zuberci
DESCRIPTION:Kalendár pripravovaných podujatí na letnú sezónu v Zuberci. Srdečne všetkých pozývame.
URL:https://www.kamnaorave.sk/event/leto-v-zuberci/
CATEGORIES:Kategória,Kultúrne,Ostatné,Športové
ATTACH;FMTTYPE=image/jpeg:https://www.kamnaorave.sk/wp-content/uploads/2025/06/1000007203.jpg
END:VEVENT
BEGIN:VEVENT
DTSTART;TZID=Europe/Bratislava:20250621T090000
DTEND;TZID=Europe/Bratislava:20250921T200000
DTSTAMP:20260426T024219
CREATED:20250614T054825Z
LAST-MODIFIED:20250616T051448Z
UID:10000059-1750496400-1758484800@www.kamnaorave.sk
SUMMARY:Polhorské kultúrne leto
DESCRIPTION:
URL:https://www.kamnaorave.sk/event/polhorske-kulturne-leto/
CATEGORIES:Kategória,Kultúrne,Ostatné,Športové
ATTACH;FMTTYPE=image/jpeg:https://www.kamnaorave.sk/wp-content/uploads/2025/06/mini29sk_1_big.jpg
ORGANIZER;CN="Obec Oravsk%C3%A1 Polhora":MAILTO:kultura@oravskapolhora.sk
END:VEVENT
BEGIN:VEVENT
DTSTART;TZID=Europe/Bratislava:20250802T160000
DTEND;TZID=Europe/Bratislava:20250802T220000
DTSTAMP:20260426T024219
CREATED:20250610T193816Z
LAST-MODIFIED:20250610T193816Z
UID:10000055-1754150400-1754172000@www.kamnaorave.sk
SUMMARY:ORAVA Alternative
DESCRIPTION:Priatelia\, síce o hodne neskôr ako po iné roky ale predsa!!\n\n\n13. ročník festivalu ORAVA ALTERNATIVE v nádhernom prostredí františkovej huty odštarutujeme 2. Augusta 2025 so začiatkom o 16:00 hodine. \n\n\nNakoľko nám tento rok finančné okolnosti moc nepriali a ani neprajú a hrozilo\, že sa festival neuskutoční\, prosíme Vás aj touto cestou o zdieľanie plagátu a potvrdenie záujmu v udalosti – viď. prvý komentár. Vaša podpora je pre nás hodne dôležitá.\n\n\nTaktiež by sme sa chceli poďakovať všetkým partnerom\, ktorí podporili našu akciu. Bez nich by sme nemali ani na jednu kapelu\, alebo tech. zabezpečenie festivalu.\n\n\nĎakujeme a vidíme sa 2. Augusta na Františkovej Huti v Podbieli
URL:https://www.kamnaorave.sk/event/orava-alternative/
CATEGORIES:Kategória,Koncerty,Kultúrne,Ostatné,Športové
ATTACH;FMTTYPE=image/jpeg:https://www.kamnaorave.sk/wp-content/uploads/2025/06/504206387_122131409762417382_5459385744239733523_n.jpg
END:VEVENT
BEGIN:VEVENT
DTSTART;TZID=Europe/Bratislava:20250808T170000
DTEND;TZID=Europe/Bratislava:20250808T190000
DTSTAMP:20260426T024219
CREATED:20250706T140636Z
LAST-MODIFIED:20250706T140636Z
UID:10000106-1754672400-1754679600@www.kamnaorave.sk
SUMMARY:Kultúrne leto: Divadlo – Trojruža
DESCRIPTION:Divadelné predstavenie pre deti. \nKlasická rozprávka od Pavla Dobšínského v neobyčajnom prevedení nevaDIvadla. Príbeh v ktorom skromnosťou prídete k najväčšiemu bohatstvu\, láskou premeníte zviera na princa a vďaka trpezlivosti sa všetko zlé na dobré obráti. \nScenár: kolektív \n​Réžia a hrajú: Róbert Máťuš\, Lukáš Jurko \nScénografia: Júlia Jurinová \n  \nTešíme sa na vás a vašich najmenších! \nV prípade nepriaznivého počasia sa podujatie uskutoční v priestoroch MsKS Dolný Kubín. \nRealizované s finančnou podporou Ministerstva cestovného ruchu a športu Slovenskej republiky. \nPartneri a sponzori podujatia: Mesto Dolný Kubín\, Klaster ORAVA a Mestské kultúrne stredisko Dolný Kubín
URL:https://www.kamnaorave.sk/event/kulturne-leto-divadlo-trojruza/
CATEGORIES:Divadelné,Kategória,Kultúrne,Ostatné,Športové
ATTACH;FMTTYPE=image/jpeg:https://www.kamnaorave.sk/wp-content/uploads/2025/07/i_8197531.jpg
END:VEVENT
BEGIN:VEVENT
DTSTART;TZID=Europe/Bratislava:20250810T090000
DTEND;TZID=Europe/Bratislava:20250810T220000
DTSTAMP:20260426T024219
CREATED:20250808T191146Z
LAST-MODIFIED:20250808T191509Z
UID:10000114-1754816400-1754863200@www.kamnaorave.sk
SUMMARY:ORAVA WHEELS MEET
DESCRIPTION:
URL:https://www.kamnaorave.sk/event/orava-wheels-meet/
CATEGORIES:Kategória,Koncerty,Ostatné,Športové
ATTACH;FMTTYPE=image/jpeg:https://www.kamnaorave.sk/wp-content/uploads/2025/08/IMG_3138-scaled.jpeg
END:VEVENT
BEGIN:VEVENT
DTSTART;TZID=Europe/Bratislava:20250810T140000
DTEND;TZID=Europe/Bratislava:20250810T180000
DTSTAMP:20260426T024219
CREATED:20250227T153748Z
LAST-MODIFIED:20250227T153748Z
UID:10000043-1754834400-1754848800@www.kamnaorave.sk
SUMMARY:Hruškový festival
DESCRIPTION:Rodinný festival plný zdravého jedla\, zábavy a zaujímavých ľudí.\nČakajú na Vás:Zdravé jedlá z hrušiekČerstvé ovocie a zeleninaVystúpenie pre deti – Teátr KomikaDomáci výrobcovia a predajcoviaTombolaSúťaže pre detiSkákací hrad
URL:https://www.kamnaorave.sk/event/hruskovy-festival/
CATEGORIES:Kategória,Kultúrne,Ostatné,Športové
ATTACH;FMTTYPE=image/jpeg:https://www.kamnaorave.sk/wp-content/uploads/2025/02/481260786_1043439117828511_6958099475758476578_n.jpg
ORGANIZER;CN="Ob%C4%8Dianske zdru%C5%BEenie MISIA MLAD%C3%9DCH":MAILTO:info @ misiamladych.sk
END:VEVENT
BEGIN:VEVENT
DTSTART;TZID=Europe/Bratislava:20250823T080000
DTEND;TZID=Europe/Bratislava:20250823T180000
DTSTAMP:20260426T024219
CREATED:20250615T130213Z
LAST-MODIFIED:20250615T130344Z
UID:10000078-1755936000-1755972000@www.kamnaorave.sk
SUMMARY:ORAVA ZRAZ
DESCRIPTION:
URL:https://www.kamnaorave.sk/event/orava-zraz/
CATEGORIES:Kategória,Kultúrne,Ostatné,Športové
ATTACH;FMTTYPE=image/jpeg:https://www.kamnaorave.sk/wp-content/uploads/2025/06/506605060_1798915234019532_5009009221698398758_n.jpg
END:VEVENT
END:VCALENDAR