BEGIN:VCALENDAR
VERSION:2.0
PRODID:-//Kam na Orave - ECPv6.7.0//NONSGML v1.0//EN
CALSCALE:GREGORIAN
METHOD:PUBLISH
X-WR-CALNAME:Kam na Orave
X-ORIGINAL-URL:https://www.kamnaorave.sk
X-WR-CALDESC:Events for Kam na Orave
REFRESH-INTERVAL;VALUE=DURATION:PT1H
X-Robots-Tag:noindex
X-PUBLISHED-TTL:PT1H
BEGIN:VTIMEZONE
TZID:Europe/Bratislava
BEGIN:DAYLIGHT
TZOFFSETFROM:+0100
TZOFFSETTO:+0200
TZNAME:CEST
DTSTART:20250330T010000
END:DAYLIGHT
BEGIN:STANDARD
TZOFFSETFROM:+0200
TZOFFSETTO:+0100
TZNAME:CET
DTSTART:20251026T010000
END:STANDARD
END:VTIMEZONE
BEGIN:VEVENT
DTSTART;TZID=Europe/Bratislava:20250706T160000
DTEND;TZID=Europe/Bratislava:20250706T213000
DTSTAMP:20260425T175706
CREATED:20250614T183054Z
LAST-MODIFIED:20250614T183054Z
UID:10000070-1751817600-1751837400@www.kamnaorave.sk
SUMMARY:Deň obce Žaškov
DESCRIPTION:
URL:https://www.kamnaorave.sk/event/den-obce-zaskov/
CATEGORIES:Kategória,Kultúrne,Ostatné,Športové
ATTACH;FMTTYPE=image/png:https://www.kamnaorave.sk/wp-content/uploads/2025/06/den-obce-zaskov_4.png
END:VEVENT
BEGIN:VEVENT
DTSTART;TZID=Europe/Bratislava:20250706T123000
DTEND;TZID=Europe/Bratislava:20250706T200000
DTSTAMP:20260425T175706
CREATED:20250614T180628Z
LAST-MODIFIED:20250614T180628Z
UID:10000065-1751805000-1751832000@www.kamnaorave.sk
SUMMARY:32. Podbielanské folklórne slávnosti na Bobrovej rali
DESCRIPTION:Podbielanské folklórne slávnosti na Bobrovej rali sa uskutočnia v areáli najväčšej pamiatkovej rezervácie ľudovej architektúry v strednej Európe v Podbieli 6. júla 2025 a privítajú takmer 300 účinkujúcich.\nProgram tohtoročných folklórnych slávností na Bobrovej rali bude patriť najmä Podpoľaniu.
URL:https://www.kamnaorave.sk/event/32-podbielanske-folklorne-slavnosti-na-bobrovej-rali/
CATEGORIES:Kategória,Kultúrne,Ostatné,Športové
ATTACH;FMTTYPE=image/jpeg:https://www.kamnaorave.sk/wp-content/uploads/2025/06/plagat-002_1.jpg
END:VEVENT
BEGIN:VEVENT
DTSTART;TZID=Europe/Bratislava:20250706T090000
DTEND;TZID=Europe/Bratislava:20250706T200000
DTSTAMP:20260425T175706
CREATED:20250614T183254Z
LAST-MODIFIED:20250614T183254Z
UID:10000071-1751792400-1751832000@www.kamnaorave.sk
SUMMARY:54. Žaškovský minimaratón
DESCRIPTION:V nedeľu 6.júla.2025 sa v obci Žaškov pri rieke Orava uskutoční 12. ročník „Dňa obce Žaškov“ a v jeho rámci 54. ročník Žaškovského minimaratónu.\n\n  \nPrezentácia bežcov bude prebiehať od 09.00 hod. do 12.40. hod. Ukončenie prezentácie žiackych kategórií je o 10.40 hod. s tým\, že štart jednotlivých žiackych kategorií bude prebiehať od 11.00 hod.. Dorastenci a účastníci hlavných kategórií sa môžu prihlasovať do 12.40 hod. Štart hlavnej kategórie je o 13.15 hod. Podrobnejšie info v propozíciách behu.\nUprednostnite on-line registráciu\, aj v detských a žiackych kategóriách ! (Vyhneme sa stresu a nedorozumeniam pri registrácii na mieste) 
URL:https://www.kamnaorave.sk/event/54-zaskovsky-minimaraton/
CATEGORIES:Kategória,Kultúrne,Ostatné,Športové
ATTACH;FMTTYPE=image/jpeg:https://www.kamnaorave.sk/wp-content/uploads/2025/06/zmm-2025.jpg
END:VEVENT
BEGIN:VEVENT
DTSTART;TZID=Europe/Bratislava:20250705T120000
DTEND;TZID=Europe/Bratislava:20250705T180000
DTSTAMP:20260425T175706
CREATED:20250610T194109Z
LAST-MODIFIED:20250610T194109Z
UID:10000056-1751716800-1751738400@www.kamnaorave.sk
SUMMARY:Súťaž vo varení kotlíkového gulášu
DESCRIPTION:Pozývame Vás na súťaž vo varení kotlíkového gulášu spojenou s varením obecného gulášu a bohatým kultúrnym programom.\n\n\n Prihlásiť sa do súťaže môžete emilom na – kotlik@nizna.sk najneskôr do 2.7.2025. V registrácii prosím uvedte: Názov teamu\, zodpovednú osobu a jej tel. číslo.
URL:https://www.kamnaorave.sk/event/sutaz-vo-vareni-kotlikoveho-gulasu/
CATEGORIES:Kategória,Kultúrne,Ostatné,Športové
ATTACH;FMTTYPE=image/jpeg:https://www.kamnaorave.sk/wp-content/uploads/2025/06/498016504_745447364814825_6162867592543519796_n.jpg
END:VEVENT
BEGIN:VEVENT
DTSTART;TZID=Europe/Bratislava:20250705T100000
DTEND;TZID=Europe/Bratislava:20250705T180000
DTSTAMP:20260425T175706
CREATED:20250614T181938Z
LAST-MODIFIED:20250614T181938Z
UID:10000068-1751709600-1751738400@www.kamnaorave.sk
SUMMARY:Deň obce Ťapešovo
DESCRIPTION:V sobotu 5. júla 2025 sa bude konať Deň obce Ťapešovo. Tradične bude prebiehať súťaž vo varení kotlíkového gulášu.\nPodrobný program podujatia priebežne zverejníme.\nVšetci ste srdečne vítaní.
URL:https://www.kamnaorave.sk/event/den-obce-tapesovo/
CATEGORIES:Kategória,Kultúrne,Ostatné,Športové
ATTACH;FMTTYPE=image/jpeg:https://www.kamnaorave.sk/wp-content/uploads/2025/06/stiahnut-7.jpg
END:VEVENT
BEGIN:VEVENT
DTSTART;TZID=Europe/Bratislava:20250629T110000
DTEND;TZID=Europe/Bratislava:20250629T180000
DTSTAMP:20260425T175706
CREATED:20250615T125828Z
LAST-MODIFIED:20250615T125828Z
UID:10000077-1751194800-1751220000@www.kamnaorave.sk
SUMMARY:Sviatok hôr
DESCRIPTION:Pozývame Vás na ďakovnú sv. omšu za dar krásnej prírody\, ktorá bude v nedeľu 29. júna 2025 o 11.00 hod. na poľane Zverovka.
URL:https://www.kamnaorave.sk/event/sviatok-hor/
CATEGORIES:Kategória,Kultúrne,Ostatné,Športové
ATTACH;FMTTYPE=image/jpeg:https://www.kamnaorave.sk/wp-content/uploads/2025/06/505732853_1158270166341002_1122669451628060196_n.jpg
END:VEVENT
BEGIN:VEVENT
DTSTART;TZID=Europe/Bratislava:20250629T100000
DTEND;TZID=Europe/Bratislava:20250629T200000
DTSTAMP:20260425T175706
CREATED:20250615T122948Z
LAST-MODIFIED:20250615T122948Z
UID:10000072-1751191200-1751227200@www.kamnaorave.sk
SUMMARY:Deň rodiny Mútne 2025 – 3. ročník
DESCRIPTION: Deň rodiny Mútne 2025 – 3. ročník Už 29. júna 2025 vás srdečne pozývame na náš obľúbený Deň rodiny\, kde vás čaká bohatý program plný hier\, hudby a zábavy pre malých aj veľkých. Program vám budeme postupne predstavovať\, preto nás sledujte a nenechajte si nič ujsť! Hlavným bodom programu bude skvelý spevák Peter Juhás s kapelou\, ktorý svojím vystúpením rozžiari naše popoludnie!Nezabudnite – stretneme sa 29. júna 2025 v Mutnom. Tešíme sa na vás! 
URL:https://www.kamnaorave.sk/event/den-rodiny-mutne-2025-3-rocnik/
CATEGORIES:Kategória,Koncerty,Kultúrne,Ostatné,Športové
ATTACH;FMTTYPE=image/jpeg:https://www.kamnaorave.sk/wp-content/uploads/2025/06/505400915_4145942669058650_6446633661003768778_n.jpg
END:VEVENT
BEGIN:VEVENT
DTSTART;TZID=Europe/Bratislava:20250628T150000
DTEND;TZID=Europe/Bratislava:20250629T200000
DTSTAMP:20260425T175706
CREATED:20250614T061133Z
LAST-MODIFIED:20250614T061133Z
UID:10000063-1751122800-1751227200@www.kamnaorave.sk
SUMMARY:Pozvánka na Zákamenskú harmoniku
DESCRIPTION:
URL:https://www.kamnaorave.sk/event/pozvanka-na-zakamensku-harmoniku/
CATEGORIES:Kategória,Koncerty,Kultúrne,Ostatné,Športové
ATTACH;FMTTYPE=image/jpeg:https://www.kamnaorave.sk/wp-content/uploads/2025/06/Zakamenska-harmonika-pozvanka.jpg
END:VEVENT
BEGIN:VEVENT
DTSTART;TZID=Europe/Bratislava:20250628T120000
DTEND;TZID=Europe/Bratislava:20250628T210000
DTSTAMP:20260425T175706
CREATED:20250614T055123Z
LAST-MODIFIED:20250614T055123Z
UID:10000060-1751112000-1751144400@www.kamnaorave.sk
SUMMARY:Deň Obce Babín
DESCRIPTION:
URL:https://www.kamnaorave.sk/event/den-obce-babin/
CATEGORIES:Kategória,Kultúrne,Ostatné,Športové
ATTACH;FMTTYPE=image/jpeg:https://www.kamnaorave.sk/wp-content/uploads/2025/06/den-obce-babin-plagat.jpg
END:VEVENT
BEGIN:VEVENT
DTSTART;TZID=Europe/Bratislava:20250627T150000
DTEND;TZID=Europe/Bratislava:20250629T200000
DTSTAMP:20260425T175706
CREATED:20250614T180039Z
LAST-MODIFIED:20250614T180039Z
UID:10000064-1751036400-1751227200@www.kamnaorave.sk
SUMMARY:Dni obce ORAVSKÁ PORUBA 2025
DESCRIPTION:
URL:https://www.kamnaorave.sk/event/dni-obce-oravska-poruba-2025/
CATEGORIES:Kategória,Kultúrne,Ostatné,Športové
ATTACH;FMTTYPE=image/png:https://www.kamnaorave.sk/wp-content/uploads/2025/06/dni_obce_2025.png
END:VEVENT
BEGIN:VEVENT
DTSTART;TZID=Europe/Bratislava:20250625T100000
DTEND;TZID=Europe/Bratislava:20250629T200000
DTSTAMP:20260425T175706
CREATED:20250614T181644Z
LAST-MODIFIED:20250614T181644Z
UID:10000067-1750845600-1751227200@www.kamnaorave.sk
SUMMARY:PLÁTENÍCKA PIESEŇ ORAVY
DESCRIPTION:
URL:https://www.kamnaorave.sk/event/platenicka-piesen-oravy-2/
CATEGORIES:Kategória,Kultúrne,Ostatné,Športové
ATTACH;FMTTYPE=image/jpeg:https://www.kamnaorave.sk/wp-content/uploads/2025/06/i_8141083.jpg
END:VEVENT
BEGIN:VEVENT
DTSTART;TZID=Europe/Bratislava:20250624T093000
DTEND;TZID=Europe/Bratislava:20250624T180000
DTSTAMP:20260425T175706
CREATED:20250615T123714Z
LAST-MODIFIED:20250615T123714Z
UID:10000074-1750757400-1750788000@www.kamnaorave.sk
SUMMARY:Staň sa železničiarom
DESCRIPTION:Oravské múzeum P. O. Hviezdoslava pripravilo na Oravskej lesnej železnici v Oravskej Lesnej zaujímavý vzdelávací program pre žiakov materských a základných škôl (1.stupeň). Deti si interaktívnou formou osvoja základné pojmy a dozvedia sa veľa zaujímavostí zo sveta na koľajniciach. Dokonca si úlohu rušňovodiča či výpravcu budú môcť vyskúšať na vlastnej koži a samozrejme sa prevezú vláčikom zo stanice Tanečník na stanicu Sedlo Beskyd cez rozprávkový les. \n\nZačiatok programu 20 minút pred odchodom vlaku\nOdchody vlaku zo stanice Tanečník o 9.30 a 11.00 hod.\nPodujatie je vhodné pre MŠ a ZŠ (I. stupeň)\nRezervácia vopred je nutná na tel. čísle: 0905 500 646 alebo mailom na pokladnaolz@oravskemuzeum.sk
URL:https://www.kamnaorave.sk/event/stan-sa-zelezniciarom/
CATEGORIES:Kategória,Kultúrne,Ostatné,Športové
ATTACH;FMTTYPE=image/png:https://www.kamnaorave.sk/wp-content/uploads/2025/06/stan-sa-zelezniciarom-2025-scaled.png
END:VEVENT
BEGIN:VEVENT
DTSTART;TZID=Europe/Bratislava:20250622T133000
DTEND;TZID=Europe/Bratislava:20250622T190000
DTSTAMP:20260425T175706
CREATED:20250615T190422Z
LAST-MODIFIED:20250615T190422Z
UID:10000082-1750599000-1750618800@www.kamnaorave.sk
SUMMARY:o najlepší koláč
DESCRIPTION:
URL:https://www.kamnaorave.sk/event/o-najlepsi-kolac/
CATEGORIES:Kategória,Ostatné,Športové
ATTACH;FMTTYPE=image/jpeg:https://www.kamnaorave.sk/wp-content/uploads/2025/06/506755790_1244010543855564_3902809489149795739_n-1.jpg
END:VEVENT
BEGIN:VEVENT
DTSTART;TZID=Europe/Bratislava:20250621T130000
DTEND;TZID=Europe/Bratislava:20250621T200000
DTSTAMP:20260425T175706
CREATED:20250616T051126Z
LAST-MODIFIED:20250616T051126Z
UID:10000084-1750510800-1750536000@www.kamnaorave.sk
SUMMARY:HOLICA CARS
DESCRIPTION:
URL:https://www.kamnaorave.sk/event/holica-cars/
CATEGORIES:Kategória,Ostatné,Športové
ATTACH;FMTTYPE=image/jpeg:https://www.kamnaorave.sk/wp-content/uploads/2025/06/506768864_760861299599417_3297572913789708550_n.jpg
END:VEVENT
BEGIN:VEVENT
DTSTART;TZID=Europe/Bratislava:20250621T100000
DTEND;TZID=Europe/Bratislava:20250622T180000
DTSTAMP:20260425T175706
CREATED:20250614T060221Z
LAST-MODIFIED:20250614T060722Z
UID:10000061-1750500000-1750615200@www.kamnaorave.sk
SUMMARY:Obecné slávnosti obce Dlhá nad Oravou
DESCRIPTION:
URL:https://www.kamnaorave.sk/event/obecne-slavnosti-obce-dlha-nad-oravou/
CATEGORIES:Kategória,Kultúrne,Ostatné,Športové
ATTACH;FMTTYPE=image/jpeg:https://www.kamnaorave.sk/wp-content/uploads/2025/06/3059333_68492b5602cdc-1-scaled.jpg
END:VEVENT
BEGIN:VEVENT
DTSTART;TZID=Europe/Bratislava:20250621T090000
DTEND;TZID=Europe/Bratislava:20250921T200000
DTSTAMP:20260425T175706
CREATED:20250614T054825Z
LAST-MODIFIED:20250616T051448Z
UID:10000059-1750496400-1758484800@www.kamnaorave.sk
SUMMARY:Polhorské kultúrne leto
DESCRIPTION:
URL:https://www.kamnaorave.sk/event/polhorske-kulturne-leto/
CATEGORIES:Kategória,Kultúrne,Ostatné,Športové
ATTACH;FMTTYPE=image/jpeg:https://www.kamnaorave.sk/wp-content/uploads/2025/06/mini29sk_1_big.jpg
ORGANIZER;CN="Obec Oravsk%C3%A1 Polhora":MAILTO:kultura@oravskapolhora.sk
END:VEVENT
BEGIN:VEVENT
DTSTART;TZID=Europe/Bratislava:20250621T090000
DTEND;TZID=Europe/Bratislava:20250621T180000
DTSTAMP:20260425T175706
CREATED:20250617T162406Z
LAST-MODIFIED:20250617T162406Z
UID:10000088-1750496400-1750528800@www.kamnaorave.sk
SUMMARY:Detská Tour Petra Sagana
DESCRIPTION:5. kolo Detskej Tour Petra Sagana sa 21. júna 2025 premiérovo uskutoční v Námestove pri Oravskej priehrade Detská Tour Petra Sagana za 11 rokov navštívila už väčšinu regiónov Slovenska. Avšak na Hornú Oravu ešte nikdy nezavítali.
URL:https://www.kamnaorave.sk/event/detska-tour-petra-sagana/
CATEGORIES:Kategória,Kultúrne,Ostatné,Športové
ATTACH;FMTTYPE=image/jpeg:https://www.kamnaorave.sk/wp-content/uploads/2025/06/detska-tour.jpg
END:VEVENT
BEGIN:VEVENT
DTSTART;TZID=Europe/Bratislava:20250620T113000
DTEND;TZID=Europe/Bratislava:20250620T180000
DTSTAMP:20260425T175706
CREATED:20250614T181425Z
LAST-MODIFIED:20250614T181425Z
UID:10000066-1750419000-1750442400@www.kamnaorave.sk
SUMMARY:PLÁTENÍCKA PIESEŇ ORAVY
DESCRIPTION:
URL:https://www.kamnaorave.sk/event/platenicka-piesen-oravy/
CATEGORIES:Kategória,Kultúrne,Ostatné,Športové
ATTACH;FMTTYPE=image/jpeg:https://www.kamnaorave.sk/wp-content/uploads/2025/06/i_8141087.jpg
END:VEVENT
BEGIN:VEVENT
DTSTART;TZID=Europe/Bratislava:20250613T120000
DTEND;TZID=Europe/Bratislava:20250615T200000
DTSTAMP:20260425T175706
CREATED:20250610T193539Z
LAST-MODIFIED:20250610T193539Z
UID:10000054-1749816000-1750017600@www.kamnaorave.sk
SUMMARY:ORAVA OFFOAD
DESCRIPTION:
URL:https://www.kamnaorave.sk/event/orava-offoad/
CATEGORIES:Kategória,Kultúrne,Ostatné,Športové
ATTACH;FMTTYPE=image/jpeg:https://www.kamnaorave.sk/wp-content/uploads/2025/06/505897666_30296843019930267_7180380545691879658_n.jpg
END:VEVENT
BEGIN:VEVENT
DTSTART;TZID=Europe/Bratislava:20250608T120000
DTEND;TZID=Europe/Bratislava:20250608T190000
DTSTAMP:20260425T175706
CREATED:20250205T163255Z
LAST-MODIFIED:20250205T163322Z
UID:10000010-1749384000-1749409200@www.kamnaorave.sk
SUMMARY:GAFA CarFest 4
DESCRIPTION:Priprav sa nezabudnuteľný deň. Opäť sa na jednom mieste stretnú milovníci áut všetkých vekových kategórií.\nPoznač si v kalendári alebo si daj pripomienku na dátum 8. 6. 2025.V tento deň spolu už po 4 x odštartujeme najväčší zraz na Orave.  GAFA CarFest 4.\nČakajú na teba tuningové\, športové\, offroadové autá a veterány.Atrakcie pre veľkých aj malých\, súťaže a úžasní ľudia\, ktorí majú rovnakú vášeň pre automobily ako ty.\nVšetko doplní festivalová atmosféra a momenty\, ktoré ti roztrasú kolená a vyvolajú husiu kožu.
URL:https://www.kamnaorave.sk/event/gafa-carfest-4/
CATEGORIES:Kategória,Koncerty,Kultúrne,Ostatné,Športové
ATTACH;FMTTYPE=image/jpeg:https://www.kamnaorave.sk/wp-content/uploads/2025/02/448021970_878265857679416_8361029818588141940_n.jpg
ORGANIZER;CN="GAFA AUTO%2C S.R.O.":MAILTO:info@gafaauto.sk
END:VEVENT
BEGIN:VEVENT
DTSTART;TZID=Europe/Bratislava:20250607T140000
DTEND;TZID=Europe/Bratislava:20250928T200000
DTSTAMP:20260425T175706
CREATED:20250614T182733Z
LAST-MODIFIED:20250614T182733Z
UID:10000069-1749304800-1759089600@www.kamnaorave.sk
SUMMARY:Leto v Zuberci
DESCRIPTION:Kalendár pripravovaných podujatí na letnú sezónu v Zuberci. Srdečne všetkých pozývame.
URL:https://www.kamnaorave.sk/event/leto-v-zuberci/
CATEGORIES:Kategória,Kultúrne,Ostatné,Športové
ATTACH;FMTTYPE=image/jpeg:https://www.kamnaorave.sk/wp-content/uploads/2025/06/1000007203.jpg
END:VEVENT
BEGIN:VEVENT
DTSTART;TZID=Europe/Bratislava:20250222T080000
DTEND;TZID=Europe/Bratislava:20250222T150000
DTSTAMP:20260425T175706
CREATED:20250207T194646Z
LAST-MODIFIED:20250207T194646Z
UID:10000027-1740211200-1740236400@www.kamnaorave.sk
SUMMARY:PRECHOD LOMNIANSKYM CHOTÁROM
DESCRIPTION:Pozývame Vás na 45. ročník prechodu Lomnianskym chotárom\, ktorý sa uskutoční 22.2.2025.
URL:https://www.kamnaorave.sk/event/prechod-lomnianskym-chotarom/
CATEGORIES:Kategória,Ostatné,Športové
ATTACH;FMTTYPE=image/jpeg:https://www.kamnaorave.sk/wp-content/uploads/2025/02/lomna-2025-prechod-plagat.jpg
END:VEVENT
BEGIN:VEVENT
DTSTART;TZID=Europe/Bratislava:20250215T090000
DTEND;TZID=Europe/Bratislava:20250215T150000
DTSTAMP:20260425T175706
CREATED:20250207T193234Z
LAST-MODIFIED:20250207T193234Z
UID:10000025-1739610000-1739631600@www.kamnaorave.sk
SUMMARY:XXII. Lyžiarsky (peší) prechod Veličianskym chotárom
DESCRIPTION:XXII. Lyžiarsky (peší) prechod Veličianskym chotárom
URL:https://www.kamnaorave.sk/event/xxii-lyziarsky-pesi-prechod-velicianskym-chotarom/
CATEGORIES:Kategória,Ostatné,Športové
ATTACH;FMTTYPE=image/jpeg:https://www.kamnaorave.sk/wp-content/uploads/2025/02/i_7951925.jpg
END:VEVENT
BEGIN:VEVENT
DTSTART;TZID=Europe/Bratislava:20250215T070000
DTEND;TZID=Europe/Bratislava:20250215T170000
DTSTAMP:20260425T175706
CREATED:20250208T152632Z
LAST-MODIFIED:20250208T152645Z
UID:10000028-1739602800-1739638800@www.kamnaorave.sk
SUMMARY:Goralský festival zabíjačkových špecialít
DESCRIPTION:
URL:https://www.kamnaorave.sk/event/goralsky-festival-zabijackovych-specialit/
CATEGORIES:Kategória,Ostatné,Športové
ATTACH;FMTTYPE=image/jpeg:https://www.kamnaorave.sk/wp-content/uploads/2025/02/L4hJBLwW1TyXonx4H7KF436Bb67dnlVj7V5oKA6R.jpg
ORGANIZER;CN="Obec Oravsk%C3%A1 Polhora":MAILTO:kultura@oravskapolhora.sk
END:VEVENT
BEGIN:VEVENT
DTSTART;TZID=Europe/Bratislava:20250208T100000
DTEND;TZID=Europe/Bratislava:20250208T150000
DTSTAMP:20260425T175706
CREATED:20250206T135827Z
LAST-MODIFIED:20250206T135827Z
UID:10000014-1739008800-1739026800@www.kamnaorave.sk
SUMMARY:Prechod Štefanovským chotárom!
DESCRIPTION:Drahí priatelia\, pozývame vás UŽ TÚTO SOBOTU 8.2.2025 na siedmy prechod Štefanovským chotárom!   Začneme registráciou o 10:00 pred KD Horný Štefanov a následne o 10:30 spoločne vyrazíme.   Na trati bude zapezpečené aj občerstvenie a v cieli sa ako tradične môžete tešiť na kapustnicu a živú hudbu!   Štratovné je 3€.
URL:https://www.kamnaorave.sk/event/prechod-stefanovskym-chotarom/
CATEGORIES:Kategória,Ostatné,Športové
ATTACH;FMTTYPE=image/jpeg:https://www.kamnaorave.sk/wp-content/uploads/2025/02/stefp.jpg
END:VEVENT
END:VCALENDAR