BEGIN:VCALENDAR
VERSION:2.0
PRODID:-//Kam na Orave - ECPv6.7.0//NONSGML v1.0//EN
CALSCALE:GREGORIAN
METHOD:PUBLISH
X-ORIGINAL-URL:https://www.kamnaorave.sk
X-WR-CALDESC:Events for Kam na Orave
REFRESH-INTERVAL;VALUE=DURATION:PT1H
X-Robots-Tag:noindex
X-PUBLISHED-TTL:PT1H
BEGIN:VTIMEZONE
TZID:Europe/Bratislava
BEGIN:DAYLIGHT
TZOFFSETFROM:+0100
TZOFFSETTO:+0200
TZNAME:CEST
DTSTART:20250330T010000
END:DAYLIGHT
BEGIN:STANDARD
TZOFFSETFROM:+0200
TZOFFSETTO:+0100
TZNAME:CET
DTSTART:20251026T010000
END:STANDARD
END:VTIMEZONE
BEGIN:VEVENT
DTSTART;TZID=Europe/Bratislava:20250905T170000
DTEND;TZID=Europe/Bratislava:20250905T190000
DTSTAMP:20260426T024908
CREATED:20250903T154733Z
LAST-MODIFIED:20250903T154733Z
UID:10000117-1757091600-1757098800@www.kamnaorave.sk
SUMMARY:* * * Karol Felix:  LAPAČ  SNOV * * *
DESCRIPTION:ktorá sa uskutoční   v piatok  5. jseptembra 2025  o 17:00  v  Art Galérii Schürger v Tvrdošíne. Tešíme sa na Vašu návštevu. \n\nAnna Lenková a Karol Felix
URL:https://www.kamnaorave.sk/event/karol-felix-lapac-snov/
CATEGORIES:Kategória,Ostatné,Umelecké,Výstavy
ATTACH;FMTTYPE=image/jpeg:https://www.kamnaorave.sk/wp-content/uploads/2025/09/pozvanka-Karol-Felix.jpg
ORGANIZER;CN="ART GAL%C3%89RIA Sch%C3%BCrger":MAILTO:info.artgaleria@gmail.com
END:VEVENT
END:VCALENDAR