BEGIN:VCALENDAR
VERSION:2.0
PRODID:-//Kam na Orave - ECPv6.7.0//NONSGML v1.0//EN
CALSCALE:GREGORIAN
METHOD:PUBLISH
X-ORIGINAL-URL:https://www.kamnaorave.sk
X-WR-CALDESC:Events for Kam na Orave
REFRESH-INTERVAL;VALUE=DURATION:PT1H
X-Robots-Tag:noindex
X-PUBLISHED-TTL:PT1H
BEGIN:VTIMEZONE
TZID:Europe/Bratislava
BEGIN:DAYLIGHT
TZOFFSETFROM:+0100
TZOFFSETTO:+0200
TZNAME:CEST
DTSTART:20250330T010000
END:DAYLIGHT
BEGIN:STANDARD
TZOFFSETFROM:+0200
TZOFFSETTO:+0100
TZNAME:CET
DTSTART:20251026T010000
END:STANDARD
BEGIN:DAYLIGHT
TZOFFSETFROM:+0100
TZOFFSETTO:+0200
TZNAME:CEST
DTSTART:20260329T010000
END:DAYLIGHT
BEGIN:STANDARD
TZOFFSETFROM:+0200
TZOFFSETTO:+0100
TZNAME:CET
DTSTART:20261025T010000
END:STANDARD
END:VTIMEZONE
BEGIN:VEVENT
DTSTART;TZID=Europe/Bratislava:20251024T080000
DTEND;TZID=Europe/Bratislava:20251024T190000
DTSTAMP:20260426T060745
CREATED:20250903T155316Z
LAST-MODIFIED:20250903T155316Z
UID:10000119-1761292800-1761332400@www.kamnaorave.sk
SUMMARY:OravaJazz 2025
DESCRIPTION:
URL:https://www.kamnaorave.sk/event/oravajazz-2025/
CATEGORIES:Kategória,Koncerty,Kultúrne,Ostatné
ATTACH;FMTTYPE=image/jpeg:https://www.kamnaorave.sk/wp-content/uploads/2025/09/oravajazz.jpg
END:VEVENT
BEGIN:VEVENT
DTSTART;TZID=Europe/Bratislava:20251026T073000
DTEND;TZID=Europe/Bratislava:20251026T120000
DTSTAMP:20260426T060745
CREATED:20251008T163320Z
LAST-MODIFIED:20251008T163320Z
UID:10000128-1761463800-1761480000@www.kamnaorave.sk
SUMMARY:Burza zberateľov
DESCRIPTION:
URL:https://www.kamnaorave.sk/event/burza-zberatelov/
CATEGORIES:Kategória,Kultúrne,Ostatné
ATTACH;FMTTYPE=image/jpeg:https://www.kamnaorave.sk/wp-content/uploads/2025/10/aa9176f5-e027-4712-a061-667ddad63e21.jpg
END:VEVENT
BEGIN:VEVENT
DTSTART;TZID=Europe/Bratislava:20251027T160000
DTEND;TZID=Europe/Bratislava:20251027T170000
DTSTAMP:20260426T060745
CREATED:20251009T054344Z
LAST-MODIFIED:20251009T054344Z
UID:10000129-1761580800-1761584400@www.kamnaorave.sk
SUMMARY:Dejiny kováčstva v Trstenej
DESCRIPTION:Mesto Trstená vás srdečne pozýva na verejnú prednášku s názvom:  Dejiny kováčstva v Trstenej \nAutor prednášky: PhDr. Marek Ďurčo\, PhD. \nHosť: Mgr. Ján Pallo \n  \nMiesto konania: Kino Mier Trstená \nDátum: 27. 10. 2025 (pondelok) \n16\,00-16\,45 hod. prednáška \n16\,45-17\,15 hod. návšteva historickej kováčskej kuzne (ulica Dukelských hrdinov) \nTešíme sa na vašu účasť!
URL:https://www.kamnaorave.sk/event/dejiny-kovacstva-v-trstenej/
CATEGORIES:Kategória,Kultúrne,Ostatné
ATTACH;FMTTYPE=image/jpeg:https://www.kamnaorave.sk/wp-content/uploads/2025/10/i_8311951.jpg
END:VEVENT
BEGIN:VEVENT
DTSTART;TZID=Europe/Bratislava:20260215T150000
DTEND;TZID=Europe/Bratislava:20260215T190000
DTSTAMP:20260426T060745
CREATED:20260210T202854Z
LAST-MODIFIED:20260210T202854Z
UID:10000130-1771167600-1771182000@www.kamnaorave.sk
SUMMARY:FAŠIANG
DESCRIPTION:Všetci ste srdečne vítaní a poteší nás aj vaša účasť v sprievode s maskami 
URL:https://www.kamnaorave.sk/event/fasiang/
CATEGORIES:Kategória,Kultúrne,Ostatné,Športové
ATTACH;FMTTYPE=image/jpeg:https://www.kamnaorave.sk/wp-content/uploads/2026/02/633720465_26096951246603169_3415601237628284315_n.jpg
END:VEVENT
BEGIN:VEVENT
DTSTART;TZID=Europe/Bratislava:20260215T150000
DTEND;TZID=Europe/Bratislava:20260217T190000
DTSTAMP:20260426T060745
CREATED:20260210T203323Z
LAST-MODIFIED:20260210T203421Z
UID:10000131-1771167600-1771354800@www.kamnaorave.sk
SUMMARY:NÁMESTOVSKÉ FAŠIANGY 2026 - DETSKÝ KARNEVAL
DESCRIPTION:15. 2. 2026 nedeľa 14:00 \n\ndetský karneval\nmini disco\nmaskoti\nsúťaže\nanimátorský program pre deti
URL:https://www.kamnaorave.sk/event/namestovske-fasiangy-2026-detsky-karneval/
CATEGORIES:Kategória,Kultúrne,Ostatné,Športové
ATTACH;FMTTYPE=image/jpeg:https://www.kamnaorave.sk/wp-content/uploads/2026/02/dfc2c838763b6df4e447955fc50915c7c3e5a233-scaled.jpg
END:VEVENT
END:VCALENDAR