BEGIN:VCALENDAR
VERSION:2.0
PRODID:-//Kam na Orave - ECPv6.7.0//NONSGML v1.0//EN
CALSCALE:GREGORIAN
METHOD:PUBLISH
X-ORIGINAL-URL:https://www.kamnaorave.sk
X-WR-CALDESC:Events for Kam na Orave
REFRESH-INTERVAL;VALUE=DURATION:PT1H
X-Robots-Tag:noindex
X-PUBLISHED-TTL:PT1H
BEGIN:VTIMEZONE
TZID:Europe/Bratislava
BEGIN:DAYLIGHT
TZOFFSETFROM:+0100
TZOFFSETTO:+0200
TZNAME:CEST
DTSTART:20250330T010000
END:DAYLIGHT
BEGIN:STANDARD
TZOFFSETFROM:+0200
TZOFFSETTO:+0100
TZNAME:CET
DTSTART:20251026T010000
END:STANDARD
END:VTIMEZONE
BEGIN:VEVENT
DTSTART;TZID=Europe/Bratislava:20251024T080000
DTEND;TZID=Europe/Bratislava:20251024T190000
DTSTAMP:20260426T023841
CREATED:20250903T155316Z
LAST-MODIFIED:20250903T155316Z
UID:10000119-1761292800-1761332400@www.kamnaorave.sk
SUMMARY:OravaJazz 2025
DESCRIPTION:
URL:https://www.kamnaorave.sk/event/oravajazz-2025/
CATEGORIES:Kategória,Koncerty,Kultúrne,Ostatné
ATTACH;FMTTYPE=image/jpeg:https://www.kamnaorave.sk/wp-content/uploads/2025/09/oravajazz.jpg
END:VEVENT
BEGIN:VEVENT
DTSTART;TZID=Europe/Bratislava:20251026T073000
DTEND;TZID=Europe/Bratislava:20251026T120000
DTSTAMP:20260426T023841
CREATED:20251008T163320Z
LAST-MODIFIED:20251008T163320Z
UID:10000128-1761463800-1761480000@www.kamnaorave.sk
SUMMARY:Burza zberateľov
DESCRIPTION:
URL:https://www.kamnaorave.sk/event/burza-zberatelov/
CATEGORIES:Kategória,Kultúrne,Ostatné
ATTACH;FMTTYPE=image/jpeg:https://www.kamnaorave.sk/wp-content/uploads/2025/10/aa9176f5-e027-4712-a061-667ddad63e21.jpg
END:VEVENT
END:VCALENDAR