BEGIN:VCALENDAR
VERSION:2.0
PRODID:-//Kam na Orave - ECPv6.7.0//NONSGML v1.0//EN
CALSCALE:GREGORIAN
METHOD:PUBLISH
X-WR-CALNAME:Kam na Orave
X-ORIGINAL-URL:https://www.kamnaorave.sk
X-WR-CALDESC:Events for Kam na Orave
REFRESH-INTERVAL;VALUE=DURATION:PT1H
X-Robots-Tag:noindex
X-PUBLISHED-TTL:PT1H
BEGIN:VTIMEZONE
TZID:Europe/Bratislava
BEGIN:DAYLIGHT
TZOFFSETFROM:+0100
TZOFFSETTO:+0200
TZNAME:CEST
DTSTART:20240331T010000
END:DAYLIGHT
BEGIN:STANDARD
TZOFFSETFROM:+0200
TZOFFSETTO:+0100
TZNAME:CET
DTSTART:20241027T010000
END:STANDARD
BEGIN:DAYLIGHT
TZOFFSETFROM:+0100
TZOFFSETTO:+0200
TZNAME:CEST
DTSTART:20250330T010000
END:DAYLIGHT
BEGIN:STANDARD
TZOFFSETFROM:+0200
TZOFFSETTO:+0100
TZNAME:CET
DTSTART:20251026T010000
END:STANDARD
END:VTIMEZONE
BEGIN:VEVENT
DTSTART;TZID=Europe/Bratislava:20250905T170000
DTEND;TZID=Europe/Bratislava:20250905T190000
DTSTAMP:20260425T203823
CREATED:20250903T154733Z
LAST-MODIFIED:20250903T154733Z
UID:10000117-1757091600-1757098800@www.kamnaorave.sk
SUMMARY:* * * Karol Felix:  LAPAČ  SNOV * * *
DESCRIPTION:ktorá sa uskutoční   v piatok  5. jseptembra 2025  o 17:00  v  Art Galérii Schürger v Tvrdošíne. Tešíme sa na Vašu návštevu. \n\nAnna Lenková a Karol Felix
URL:https://www.kamnaorave.sk/event/karol-felix-lapac-snov/
CATEGORIES:Kategória,Ostatné,Umelecké,Výstavy
ATTACH;FMTTYPE=image/jpeg:https://www.kamnaorave.sk/wp-content/uploads/2025/09/pozvanka-Karol-Felix.jpg
ORGANIZER;CN="ART GAL%C3%89RIA Sch%C3%BCrger":MAILTO:info.artgaleria@gmail.com
END:VEVENT
BEGIN:VEVENT
DTSTART;TZID=Europe/Bratislava:20250704T170000
DTEND;TZID=Europe/Bratislava:20250704T190000
DTSTAMP:20260425T203823
CREATED:20250624T185948Z
LAST-MODIFIED:20250624T185948Z
UID:10000098-1751648400-1751655600@www.kamnaorave.sk
SUMMARY:Martin AUGUSTÍN  - OČI NEKONEČNÉ
DESCRIPTION:ART GALÉRIA Schürger\na autor\nsrdečne pozývajú Vás a Vašich priateľov\nna vernisáž 200. výstavy\nMartin AUGUSTÍN\nOČI NEKONEČNÉ\nKurátor: PhDr. Ľudovít Petránsky\nHudobní hostia: Mgr.art Katarína Ondríková\, klavír\na Mgr. Zuzana Suchánková\, flauta\nvernisáž sa uskutoční v piatok\n4. júla 2025 o 17:00h\nv priestoroch ART GALÉRIE Schürger\,\nTrojičné námestie 183\, Tvrdošín\nvýstava potrvá do 31. 8. 2025\nMADONA\, PATRONKA ORAVY
URL:https://www.kamnaorave.sk/event/martin-augustin-oci-nekonecne/
CATEGORIES:Kategória,Koncerty,Umelecké,Výstavy
ATTACH;FMTTYPE=image/jpeg:https://www.kamnaorave.sk/wp-content/uploads/2025/06/unnamed-1.jpg
ORGANIZER;CN="ART GAL%C3%89RIA Sch%C3%BCrger":MAILTO:info.artgaleria@gmail.com
END:VEVENT
BEGIN:VEVENT
DTSTART;TZID=Europe/Bratislava:20250404T170000
DTEND;TZID=Europe/Bratislava:20250404T190000
DTSTAMP:20260425T203823
CREATED:20250403T125742Z
LAST-MODIFIED:20250403T125742Z
UID:10000048-1743786000-1743793200@www.kamnaorave.sk
SUMMARY:* * * Yaro M. Kupčo: Cesty a zastavenia  * * *
DESCRIPTION:Vážení a milí priatelia\, \ndovoľujeme si pozvať Vás a Vašich priateľov na vernisáž výstavy: \nktorá sa uskutoční   v piatok  4. Apríla 2025  o 17:00  v  Art Galérii Schürger v Tvrdošíne. \nTeším sa na Vašu návštevu.\nAnna Lenková a autori
URL:https://www.kamnaorave.sk/event/yaro-m-kupco-cesty-a-zastavenia/
CATEGORIES:Kategória,Výstavy
ATTACH;FMTTYPE=image/png:https://www.kamnaorave.sk/wp-content/uploads/2025/04/Tvrdosin-fotky.png
ORGANIZER;CN="ART GAL%C3%89RIA Sch%C3%BCrger":MAILTO:info.artgaleria@gmail.com
END:VEVENT
BEGIN:VEVENT
DTSTART;TZID=Europe/Bratislava:20250404T170000
DTEND;TZID=Europe/Bratislava:20250404T190000
DTSTAMP:20260425T203823
CREATED:20250403T125535Z
LAST-MODIFIED:20250403T125535Z
UID:10000047-1743786000-1743793200@www.kamnaorave.sk
SUMMARY:* * *Marta Filová: V objatí nehy * * *
DESCRIPTION:Vážení a milí priatelia\, \ndovoľujeme si pozvať Vás a Vašich priateľov na vernisáž výstavy: \nktorá sa uskutoční   v piatok  4. Apríla 2025  o 17:00  v  Art Galérii Schürger v Tvrdošíne. \nTeším sa na Vašu návštevu.\nAnna Lenková a autori
URL:https://www.kamnaorave.sk/event/marta-filova-v-objati-nehy/
CATEGORIES:Kategória,Výstavy
ATTACH;FMTTYPE=image/png:https://www.kamnaorave.sk/wp-content/uploads/2025/04/Tvrdosin-sperky.png
ORGANIZER;CN="ART GAL%C3%89RIA Sch%C3%BCrger":MAILTO:info.artgaleria@gmail.com
END:VEVENT
BEGIN:VEVENT
DTSTART;TZID=Europe/Bratislava:20250305T170000
DTEND;TZID=Europe/Bratislava:20250305T190000
DTSTAMP:20260425T203823
CREATED:20250226T134328Z
LAST-MODIFIED:20250226T134603Z
UID:10000042-1741194000-1741201200@www.kamnaorave.sk
SUMMARY:vernisáž výstavy: Zuzana Veresky a hostia
DESCRIPTION:Vážení a milí priatelia\, \ndovoľujem si pozvať Vás a Vašich priateľov na vernisáž výstavy: Zuzana Veresky a hostia ( maliari z Kovačice\, ktorí sú ako Slovensko zapísaní do svetového kultúrneho dedičstva UNESCO). \nTeším sa na Vašu návštevu. \nAnna Lenková
URL:https://www.kamnaorave.sk/event/zuzana-veresky-a-hostia/
CATEGORIES:Kategória,Výstavy
ATTACH;FMTTYPE=image/jpeg:https://www.kamnaorave.sk/wp-content/uploads/2025/02/Pozvanka-Veresky-1.jpg
ORGANIZER;CN="ART GAL%C3%89RIA Sch%C3%BCrger":MAILTO:info.artgaleria@gmail.com
END:VEVENT
BEGIN:VEVENT
DTSTART;TZID=Europe/Bratislava:20250221T163000
DTEND;TZID=Europe/Bratislava:20250221T180000
DTSTAMP:20260425T203823
CREATED:20250212T163406Z
LAST-MODIFIED:20250212T163812Z
UID:10000038-1740155400-1740160800@www.kamnaorave.sk
SUMMARY:Margaret Broz Kubásová -  Óda na záhradu a Jarko Broz - Logicka záhrada
DESCRIPTION:Príďte s nami osláviť vydanie knižky Logická záhrada od Jarka Broza na vernisáž fotografickej výstavy Óda na záhradu Margaréty Broz Kubásovej\, kde uvidíte Ilustrácie z knihy\, ba aj čosi viac. Súčasťou vernisáže bude čítanie z knihy a hudobní hostia. Výstava sa koná v ART GALÉRII Schürger 21. 2. 2025 o 16:30Tešíme sa na vás 
URL:https://www.kamnaorave.sk/event/margaret-broz-kubasova-oda-na-zahradu-a-jarko-broz-logicka-zahrada/
CATEGORIES:Kategória,Kultúrne,Ostatné,Umelecké,Výstavy
ATTACH;FMTTYPE=image/jpeg:https://www.kamnaorave.sk/wp-content/uploads/2025/02/476646581_10228419460095802_5357296517072092025_n.jpg
ORGANIZER;CN="ART GAL%C3%89RIA Sch%C3%BCrger":MAILTO:info.artgaleria@gmail.com
END:VEVENT
BEGIN:VEVENT
DTSTART;TZID=Europe/Bratislava:20241031T170000
DTEND;TZID=Europe/Bratislava:20241031T190000
DTSTAMP:20260425T203823
CREATED:20240917T143331Z
LAST-MODIFIED:20241012T130132Z
UID:10000004-1730394000-1730401200@www.kamnaorave.sk
SUMMARY:Vernisáž výstavy * * *Katarína ALEXY-FÍGEROVÁ: CESTY/CESTIČKY/CHODNÍČKY  * * *
DESCRIPTION:Vážení a milí priatelia\, \ndovoľujeme si pozvať Vás a Vašich priateľov na vernisáž výstavy: \n * * *Katarína ALEXY-FÍGEROVÁ: CESTY/CESTIČKY/CHODNÍČKY  * * * \nktorá sa uskutoční   v piatok  20. septembra 2024  o 17:00  v  Art Galérii Schürger v Tvrdošíne. \nTeším sa na Vašu návštevu.
URL:https://www.kamnaorave.sk/event/vernisaz-vystavy-katarina-alexy-figerova-cesty-cesticky-chodnicky/
LOCATION:Art Galéria Schürger – Tvrdošín\, Trojičné námestie 183\, Tvrdošín\, Žilinský kraj\, 02744\, Slovakia (Slovak Republic)
CATEGORIES:Koncerty
ATTACH;FMTTYPE=image/jpeg:https://www.kamnaorave.sk/wp-content/uploads/2024/09/Katka-Figerova2.jpg
ORGANIZER;CN="ART GAL%C3%89RIA Sch%C3%BCrger":MAILTO:info.artgaleria@gmail.com
END:VEVENT
END:VCALENDAR