BEGIN:VCALENDAR
VERSION:2.0
PRODID:-//Kam na Orave - ECPv6.7.0//NONSGML v1.0//EN
CALSCALE:GREGORIAN
METHOD:PUBLISH
X-WR-CALNAME:Kam na Orave
X-ORIGINAL-URL:https://www.kamnaorave.sk
X-WR-CALDESC:Events for Kam na Orave
REFRESH-INTERVAL;VALUE=DURATION:PT1H
X-Robots-Tag:noindex
X-PUBLISHED-TTL:PT1H
BEGIN:VTIMEZONE
TZID:Europe/Bratislava
BEGIN:DAYLIGHT
TZOFFSETFROM:+0100
TZOFFSETTO:+0200
TZNAME:CEST
DTSTART:20250330T010000
END:DAYLIGHT
BEGIN:STANDARD
TZOFFSETFROM:+0200
TZOFFSETTO:+0100
TZNAME:CET
DTSTART:20251026T010000
END:STANDARD
END:VTIMEZONE
BEGIN:VEVENT
DTSTART;TZID=Europe/Bratislava:20250801T000000
DTEND;TZID=Europe/Bratislava:20250803T000000
DTSTAMP:20260425T221323
CREATED:20250206T185458Z
LAST-MODIFIED:20250206T185550Z
UID:10000019-1754006400-1754179200@www.kamnaorave.sk
SUMMARY:49. Podroháčske folkórne slávnosti
DESCRIPTION:Podroháčske folklórne slávnosti sú najväčším folklórnym podujatím v regióne.\nČasť sprievodných programov sa odohráva v Múzeu oravskej dediny.\nPodrobné informácie o slávnostiach nájdete  na stránke: https://pfs.zuberec.sk/ \nV sobotu a v nedeľu 2.-3.8.2024 bude vstup do Múzea oravskej dediny možný iba so vstupenkou na Podroháčske folklórne slávnosti. \n\n\n\n\n\n\n\n\n\n\n\n49. Podroháčske folkórne slávnosti – program sa bude konať v nasledovných termínoch:\n\n\n\n\n\n1. 01.08.2025 (Piatok)\n2. 02.08.2025 (Sobota)\n3. 03.08.2025 (Nedeľa)
URL:https://www.kamnaorave.sk/event/49-podrohacske-folkorne-slavnosti/
CATEGORIES:Kategória,Koncerty,Kultúrne
ATTACH;FMTTYPE=image/jpeg:https://www.kamnaorave.sk/wp-content/uploads/2025/02/DSC7843.jpg
ORGANIZER;CN="M%C3%BAzeum oravskej dediny":MAILTO:muzeum@zuberec.sk
END:VEVENT
BEGIN:VEVENT
DTSTART;TZID=Europe/Bratislava:20250419T000000
DTEND;TZID=Europe/Bratislava:20250421T000000
DTSTAMP:20260425T221323
CREATED:20250206T184218Z
LAST-MODIFIED:20250206T185607Z
UID:10000018-1745020800-1745193600@www.kamnaorave.sk
SUMMARY:Veľkonočné sviatky v múzeu
DESCRIPTION:Počas Veľkonočných sviatkov od piatku do pondelka zvyknú remeselníci v areáli múzea predvádzať: \n\nvýrobu kraslíc\,\npletenie korbáčov\,\nvýrobu sviečok\,\ntočenie na hrnčiarskom kruhu\,\ndrotárstvo\,\na rezbárstvo.\n\nV prípade priaznivého počasia sa vyháňajú po zime von aj domáce zvieratá. \nNa nedeľné poobedie o 14.00 je pre návštevníkov pripravený folklórny program. \n\n\n\n\n\n\n\n\n\nVeľkonočné sviatky v múzeu – program sa bude konať v nasledovných termínoch:\n\n\n\n\n\n1. 19.04.2025 (Sobota)\n2. 20.04.2025 (Nedeľa)\n3. 21.04.2025 (Pondelok)
URL:https://www.kamnaorave.sk/event/velkonocne-sviatky-v-muzeu/
CATEGORIES:Kategória,Koncerty,Kultúrne
ATTACH;FMTTYPE=image/jpeg:https://www.kamnaorave.sk/wp-content/uploads/2025/02/VM-v-MOD-24-m.jpg
ORGANIZER;CN="M%C3%BAzeum oravskej dediny":MAILTO:muzeum@zuberec.sk
END:VEVENT
END:VCALENDAR