BEGIN:VCALENDAR
VERSION:2.0
PRODID:-//Kam na Orave - ECPv6.7.0//NONSGML v1.0//EN
CALSCALE:GREGORIAN
METHOD:PUBLISH
X-WR-CALNAME:Kam na Orave
X-ORIGINAL-URL:https://www.kamnaorave.sk
X-WR-CALDESC:Events for Kam na Orave
REFRESH-INTERVAL;VALUE=DURATION:PT1H
X-Robots-Tag:noindex
X-PUBLISHED-TTL:PT1H
BEGIN:VTIMEZONE
TZID:Europe/Bratislava
BEGIN:DAYLIGHT
TZOFFSETFROM:+0100
TZOFFSETTO:+0200
TZNAME:CEST
DTSTART:20250330T010000
END:DAYLIGHT
BEGIN:STANDARD
TZOFFSETFROM:+0200
TZOFFSETTO:+0100
TZNAME:CET
DTSTART:20251026T010000
END:STANDARD
END:VTIMEZONE
BEGIN:VEVENT
DTSTART;TZID=Europe/Bratislava:20250425T090000
DTEND;TZID=Europe/Bratislava:20250425T160000
DTSTAMP:20260425T232525
CREATED:20250418T172832Z
LAST-MODIFIED:20250418T172832Z
UID:10000049-1745571600-1745596800@www.kamnaorave.sk
SUMMARY:Lojzkov blšáčik
DESCRIPTION:Príď si uloviť poklady a zároveň pomôcť labkám!  Všetky chvostíky z OZ Oravský Ňufáčik Ťa srdečne pozývajú na 3. Lojzkov blšáčik – miesto\, kde každý kúsok má srdce  a každý cent pomáha!  Kedy? 25.4.2025 Kde? Pri Dome kultúry Námestovo Čas? 09:00 – 16:00 hodČakajú na teba milé vecičky \, dobrá nálada  a ten krásny pocit\, že robíš niečo pre zvieratká\, ktoré si samy nevedia pomôcť .Výťažok poputuje na krmivo\, vet. starostlivosť a ďalšie potreby pre našich štvornohých kamarátov .Príď\, podaj labku a odíď s úsmevom (a možno aj s novým pokladom)! Tešíme sa na Vás – ďakujeme\, že pomáhate!  Zdieľaj\, pozvi kamarátov a urobme spolu deň plný dobra! 
URL:https://www.kamnaorave.sk/event/lojzkov-blsacik/
CATEGORIES:Kategória,Ostatné
ATTACH;FMTTYPE=image/jpeg:https://www.kamnaorave.sk/wp-content/uploads/2025/04/492003496_999774422339141_2712279716598070754_n.jpg
END:VEVENT
BEGIN:VEVENT
DTSTART;TZID=Europe/Bratislava:20250322T110000
DTEND;TZID=Europe/Bratislava:20250322T150000
DTSTAMP:20260425T232525
CREATED:20250320T164942Z
LAST-MODIFIED:20250320T164942Z
UID:10000046-1742641200-1742655600@www.kamnaorave.sk
SUMMARY:Adopčný deň do super ZOO Trstená
DESCRIPTION:1+1 ZADARMO – Za každé zakúpené krmivo alebo chovateľské potreby ktoré pre naše OZ v ten deň zakúpite\, nám Super Zoo daruje rovnaké množstvo! Pridajte sa k nám a spravme spoločne radosť tým\, ktorí to najviac potrebujú! 
URL:https://www.kamnaorave.sk/event/adopcny-den-do-super-zoo-trstena/
CATEGORIES:Kategória,Ostatné
ATTACH;FMTTYPE=image/jpeg:https://www.kamnaorave.sk/wp-content/uploads/2025/03/483604951_972267795089804_6806971209565426865_n.jpg
END:VEVENT
END:VCALENDAR